BEGIN:VCALENDAR
VERSION:2.0
PRODID:-//ChamberMaster//Event Calendar 2.0//EN
METHOD:PUBLISH
X-PUBLISHED-TTL:P1H
REFRESH-INTERVAL:P1H
CALSCALE:GREGORIAN
BEGIN:VTIMEZONE
TZID:America/Denver
BEGIN:DAYLIGHT
RRULE:FREQ=YEARLY;BYMONTH=3;BYDAY=2SU
DTSTART:20070101T000000
TZOFFSETFROM:-0700
TZOFFSETTO:-0600
TZNAME:Mountain Daylight Time
END:DAYLIGHT
BEGIN:STANDARD
RRULE:FREQ=YEARLY;BYMONTH=11;BYDAY=1SU
DTSTART:20070101T000000
TZOFFSETFROM:-0600
TZOFFSETTO:-0700
TZNAME:Mountain Standard Time
END:STANDARD
END:VTIMEZONE
BEGIN:VEVENT
DTSTART;TZID=America/Denver:20260725T160000
DTEND;TZID=America/Denver:20260725T190000
X-MICROSOFT-CDO-ALLDAYEVENT:FALSE
SUMMARY:Member Appreciation Day
DESCRIPTION:Join us for an evening of family fun at the Colorado Railroad Museum! We will have live music\, face painting\, free food and drinks\, and fun games for all to enjoy. Train rides for the whole family\, too! Come celebrate with us and enjoy the festivities the Colorado Railroad Museum has to offer! RSVP at https://www.ontapcu.org/resources/news-and-events\nFree Food  -  Drinks  -  Prizes  -  Train Rides
X-ALT-DESC;FMTTYPE=text/html:Join us for an evening of family fun at the Colorado Railroad Museum! We will have live music\, face painting\, free food and drinks\, and fun games for all to enjoy. Train rides for the whole family\, too! Come celebrate with us and enjoy the festivities the Colorado Railroad Museum has to offer! RSVP at https://www.ontapcu.org/resources/news-and-events\nFree Food  -  Drinks  -  Prizes  -  Train Rides
LOCATION:17155 W 44th Ave Golden CO 80403
UID:e.4196.1451150
SEQUENCE:3
DTSTAMP:20260424T231647Z
URL:https://business.arvadachamber.org/events/Details/member-appreciation-day-1718881?sourceTypeId=Hub
END:VEVENT
END:VCALENDAR
