BEGIN:VCALENDAR
VERSION:2.0
PRODID:-//ChamberMaster//Event Calendar 2.0//EN
METHOD:PUBLISH
X-PUBLISHED-TTL:P1H
REFRESH-INTERVAL:P1H
CALSCALE:GREGORIAN
BEGIN:VTIMEZONE
TZID:America/Denver
BEGIN:DAYLIGHT
RRULE:FREQ=YEARLY;BYMONTH=3;BYDAY=2SU
DTSTART:20070101T000000
TZOFFSETFROM:-0700
TZOFFSETTO:-0600
TZNAME:Mountain Daylight Time
END:DAYLIGHT
BEGIN:STANDARD
RRULE:FREQ=YEARLY;BYMONTH=11;BYDAY=1SU
DTSTART:20070101T000000
TZOFFSETFROM:-0600
TZOFFSETTO:-0700
TZNAME:Mountain Standard Time
END:STANDARD
END:VTIMEZONE
BEGIN:VEVENT
DTSTART;TZID=America/Denver:20260616T120000
DTEND;TZID=America/Denver:20260616T130000
X-MICROSOFT-CDO-ALLDAYEVENT:FALSE
SUMMARY:June Non-Profit Network Meeting
DESCRIPTION:We are excited to share a new opportunity launching this year through the Greater Arvada Chamber of Commerce\, a Nonprofit Network created EXCLUSIVELY for our nonprofit members. This network will bring local nonprofit leaders together every few months to share best practices and ideas\, discuss common challenges and solutions\, learn from one another experiences and build meaningful connections with fellow organizations serving our community. To keep the focus on nonprofit collaboration\, this event is open only to staff and board members of nonprofit organizations. Thank you for your understanding.
X-ALT-DESC;FMTTYPE=text/html:We are excited to share a new opportunity launching this year through the Greater Arvada Chamber of Commerce\, a Nonprofit Network created EXCLUSIVELY for our nonprofit members. This network will bring local nonprofit leaders together every few months to share best practices and ideas\, discuss common challenges and solutions\, learn from one another experiences and build meaningful connections with fellow organizations serving our community. To keep the focus on nonprofit collaboration\, this event is open only to staff and board members of nonprofit organizations. Thank you for your understanding.
LOCATION:7502 W 80th Ave Suite 180 Arvada CO 80003
UID:e.4196.1447405
SEQUENCE:3
DTSTAMP:20260421T222904Z
URL:https://business.arvadachamber.org/events/Details/june-non-profit-network-meeting-1714342?sourceTypeId=Hub
END:VEVENT
END:VCALENDAR
